BEGIN:VCALENDAR
PRODID:-//www.tgcamberg1848.de//DE
CALSCALE:GREGORIAN
VERSION:2.0
METHOD:PUBLISH
BEGIN:VEVENT
DESCRIPTION:Wir treffen uns zum Fahrrad-Sprint im Walsdorfer Weg (Fahrradweg zwischen Walsdorf und Würges) am FSV-Sportplatz:    Donnerstag, 30.4.2026 um 18 Uhr   
DTSTART;TZID=Europe/Berlin:20260430T180000
DTEND;TZID=Europe/Berlin:20260430T190000
URL:https://www.tgcamberg1848.de/Veranstaltungen/sportabzeichen/
SUMMARY;CHARSET=UTF-8:Sportabzeichen - 200m Fahrradsprint
END:VEVENT
END:VCALENDAR