BEGIN:VCALENDAR
PRODID:-//www.tgcamberg1848.de//DE
CALSCALE:GREGORIAN
VERSION:2.0
METHOD:PUBLISH
BEGIN:VEVENT
DESCRIPTION:Kreissporthalle Limburg  
DTSTART;TZID=Europe/Berlin:20260912T000000
DTEND;TZID=Europe/Berlin:20260913T000000
URL:https://www.tgcamberg1848.de/Veranstaltungen/geraetturnen-weiblich/
SUMMARY;CHARSET=UTF-8:Gerätturnen weiblich - Mannschaftswettkämpfe Gerätturnen weiblich
END:VEVENT
END:VCALENDAR